{
  "title": "AdV tiling scheme using ETRS89/UTM32N covering Germany",
  "id": "AdV_25832",
  "crs": "http://www.opengis.net/def/crs/EPSG/0/25832",
  "boundingBox": {
    "lowerLeft": [
      -46133.17,
      5048875.26857567
    ],
    "upperRight": [
      1206211.10142433,
      6301219.54
    ],
    "crs": "http://www.opengis.net/def/crs/EPSG/0/25832"
  },
  "tileMatrices": [
    {
      "id": "0",
      "tileWidth": 256,
      "tileHeight": 256,
      "matrixWidth": 1,
      "matrixHeight": 1,
      "scaleDenominator": 17471320.7508974,
      "cellSize": 4891.96981025127,
      "pointOfOrigin": [
        -46133.17,
        6301219.54
      ],
      "cornerOfOrigin": "topLeft"
    },
    {
      "id": "1",
      "tileWidth": 256,
      "tileHeight": 256,
      "matrixWidth": 2,
      "matrixHeight": 2,
      "scaleDenominator": 8735660.3754487,
      "cellSize": 2445.98490512564,
      "pointOfOrigin": [
        -46133.17,
        6301219.54
      ],
      "cornerOfOrigin": "topLeft"
    },
    {
      "id": "2",
      "tileWidth": 256,
      "tileHeight": 256,
      "matrixWidth": 4,
      "matrixHeight": 4,
      "scaleDenominator": 4367830.18772435,
      "cellSize": 1222.99245256282,
      "pointOfOrigin": [
        -46133.17,
        6301219.54
      ],
      "cornerOfOrigin": "topLeft"
    },
    {
      "id": "3",
      "tileWidth": 256,
      "tileHeight": 256,
      "matrixWidth": 8,
      "matrixHeight": 8,
      "scaleDenominator": 2183915.09386218,
      "cellSize": 611.49622628141,
      "pointOfOrigin": [
        -46133.17,
        6301219.54
      ],
      "cornerOfOrigin": "topLeft"
    },
    {
      "id": "4",
      "tileWidth": 256,
      "tileHeight": 256,
      "matrixWidth": 16,
      "matrixHeight": 16,
      "scaleDenominator": 1091957.54693109,
      "cellSize": 305.748113140705,
      "pointOfOrigin": [
        -46133.17,
        6301219.54
      ],
      "cornerOfOrigin": "topLeft"
    },
    {
      "id": "5",
      "tileWidth": 256,
      "tileHeight": 256,
      "matrixWidth": 32,
      "matrixHeight": 32,
      "scaleDenominator": 545978.773465544,
      "cellSize": 152.874056570352,
      "pointOfOrigin": [
        -46133.17,
        6301219.54
      ],
      "cornerOfOrigin": "topLeft"
    },
    {
      "id": "6",
      "tileWidth": 256,
      "tileHeight": 256,
      "matrixWidth": 64,
      "matrixHeight": 64,
      "scaleDenominator": 272989.386732772,
      "cellSize": 76.4370282851762,
      "pointOfOrigin": [
        -46133.17,
        6301219.54
      ],
      "cornerOfOrigin": "topLeft"
    },
    {
      "id": "7",
      "tileWidth": 256,
      "tileHeight": 256,
      "matrixWidth": 128,
      "matrixHeight": 128,
      "scaleDenominator": 136494.693366386,
      "cellSize": 38.2185141425881,
      "pointOfOrigin": [
        -46133.17,
        6301219.54
      ],
      "cornerOfOrigin": "topLeft"
    },
    {
      "id": "8",
      "tileWidth": 256,
      "tileHeight": 256,
      "matrixWidth": 256,
      "matrixHeight": 256,
      "scaleDenominator": 68247.346683193,
      "cellSize": 19.109257071294,
      "pointOfOrigin": [
        -46133.17,
        6301219.54
      ],
      "cornerOfOrigin": "topLeft"
    },
    {
      "id": "9",
      "tileWidth": 256,
      "tileHeight": 256,
      "matrixWidth": 512,
      "matrixHeight": 512,
      "scaleDenominator": 34123.6733415965,
      "cellSize": 9.55462853564702,
      "pointOfOrigin": [
        -46133.17,
        6301219.54
      ],
      "cornerOfOrigin": "topLeft"
    },
    {
      "id": "10",
      "tileWidth": 256,
      "tileHeight": 256,
      "matrixWidth": 1024,
      "matrixHeight": 1024,
      "scaleDenominator": 17061.8366707982,
      "cellSize": 4.7773142678235,
      "pointOfOrigin": [
        -46133.17,
        6301219.54
      ],
      "cornerOfOrigin": "topLeft"
    },
    {
      "id": "11",
      "tileWidth": 256,
      "tileHeight": 256,
      "matrixWidth": 2048,
      "matrixHeight": 2048,
      "scaleDenominator": 8530.91833539912,
      "cellSize": 2.38865713391175,
      "pointOfOrigin": [
        -46133.17,
        6301219.54
      ],
      "cornerOfOrigin": "topLeft"
    },
    {
      "id": "12",
      "tileWidth": 256,
      "tileHeight": 256,
      "matrixWidth": 4096,
      "matrixHeight": 4096,
      "scaleDenominator": 4265.45916769956,
      "cellSize": 1.19432856695588,
      "pointOfOrigin": [
        -46133.17,
        6301219.54
      ],
      "cornerOfOrigin": "topLeft"
    },
    {
      "id": "13",
      "tileWidth": 256,
      "tileHeight": 256,
      "matrixWidth": 8192,
      "matrixHeight": 8192,
      "scaleDenominator": 2132.72958384978,
      "cellSize": 0.597164283477938,
      "pointOfOrigin": [
        -46133.17,
        6301219.54
      ],
      "cornerOfOrigin": "topLeft"
    },
    {
      "id": "14",
      "tileWidth": 256,
      "tileHeight": 256,
      "matrixWidth": 16384,
      "matrixHeight": 16384,
      "scaleDenominator": 1066.36479192489,
      "cellSize": 0.298582141738969,
      "pointOfOrigin": [
        -46133.17,
        6301219.54
      ],
      "cornerOfOrigin": "topLeft"
    }
  ],
  "orderedAxes": [
    "E",
    "N"
  ],
  "links": [
    {
      "rel": "alternate",
      "type": "text/html",
      "title": "This document as HTML",
      "href": "https://ogc-api.nrw.de/lika/v1/tileMatrixSets/AdV_25832?f=html"
    },
    {
      "rel": "self",
      "type": "application/json",
      "title": "This document",
      "href": "https://ogc-api.nrw.de/lika/v1/tileMatrixSets/AdV_25832?f=json"
    }
  ]
}
